BEGIN:VCALENDAR
VERSION:2.0
PRODID:-//Sacred Heart Parish - ECPv6.0.3.1//NONSGML v1.0//EN
CALSCALE:GREGORIAN
METHOD:PUBLISH
X-ORIGINAL-URL:https://sacredheartalberton.ca
X-WR-CALDESC:Events for Sacred Heart Parish
REFRESH-INTERVAL;VALUE=DURATION:PT1H
X-Robots-Tag:noindex
X-PUBLISHED-TTL:PT1H
BEGIN:VTIMEZONE
TZID:UTC
BEGIN:STANDARD
TZOFFSETFROM:+0000
TZOFFSETTO:+0000
TZNAME:UTC
DTSTART:20230101T000000
END:STANDARD
END:VTIMEZONE
BEGIN:VEVENT
DTSTART;TZID=UTC:20230502T190000
DTEND;TZID=UTC:20230502T200000
DTSTAMP:20260425T002205
CREATED:20230501T171314Z
LAST-MODIFIED:20230501T171314Z
UID:377-1683054000-1683057600@sacredheartalberton.ca
SUMMARY:Sacred Heart CWL Prize Bingo
DESCRIPTION:Please join us for the monthly prize bingo hosted by the CWL! The bingo takes place in the parish basement\, we hope to see you there!
URL:https://sacredheartalberton.ca/event/sacred-heart-cwl-prize-bingo/
END:VEVENT
BEGIN:VEVENT
DTSTART;TZID=UTC:20230513T100000
DTEND;TZID=UTC:20230513T103000
DTSTAMP:20260425T002205
CREATED:20230508T172105Z
LAST-MODIFIED:20230508T172105Z
UID:383-1683972000-1683973800@sacredheartalberton.ca
SUMMARY:Baptism Prep Meeting
DESCRIPTION:Two couples will be meeting at Sacred Heart for a baptism preparation meeting. This meeting will be over before 11am confessions.
URL:https://sacredheartalberton.ca/event/baptism-prep-meeting/
END:VEVENT
BEGIN:VEVENT
DTSTART;TZID=UTC:20230515T060000
DTEND;TZID=UTC:20230515T200000
DTSTAMP:20260425T002205
CREATED:20230515T193335Z
LAST-MODIFIED:20230515T193335Z
UID:399-1684130400-1684180800@sacredheartalberton.ca
SUMMARY:Cemetery Cleanup
DESCRIPTION:The Cemetery Cleanup was supposed to take place tonight\, but will be done later on as there is some other cleanup of bigger trees being done currently.
URL:https://sacredheartalberton.ca/event/cemetery-cleanup/
END:VEVENT
END:VCALENDAR