BEGIN:VCALENDAR
VERSION:2.0
PRODID:-//Sacred Heart Parish - ECPv6.0.3.1//NONSGML v1.0//EN
CALSCALE:GREGORIAN
METHOD:PUBLISH
X-WR-CALNAME:Sacred Heart Parish
X-ORIGINAL-URL:https://sacredheartalberton.ca
X-WR-CALDESC:Events for Sacred Heart Parish
REFRESH-INTERVAL;VALUE=DURATION:PT1H
X-Robots-Tag:noindex
X-PUBLISHED-TTL:PT1H
BEGIN:VTIMEZONE
TZID:UTC
BEGIN:STANDARD
TZOFFSETFROM:+0000
TZOFFSETTO:+0000
TZNAME:UTC
DTSTART:20230101T000000
END:STANDARD
END:VTIMEZONE
BEGIN:VEVENT
DTSTART;TZID=UTC:20230403T080000
DTEND;TZID=UTC:20230403T170000
DTSTAMP:20260425T110317
CREATED:20230403T140653Z
LAST-MODIFIED:20230403T140716Z
UID:368-1680508800-1680541200@sacredheartalberton.ca
SUMMARY:Mass time Change
DESCRIPTION:Beginning Saturday April 15\,2023 mass time will change from 4 PM to 6 PM.
URL:https://sacredheartalberton.ca/event/mass-time-change/
END:VEVENT
BEGIN:VEVENT
DTSTART;TZID=UTC:20230321T120000
DTEND;TZID=UTC:20230324T140000
DTSTAMP:20260425T110317
CREATED:20230317T133535Z
LAST-MODIFIED:20230317T133535Z
UID:354-1679400000-1679666400@sacredheartalberton.ca
SUMMARY:Holy Week Noon Services
DESCRIPTION:Holy Week Noon Services will once again be held at St Peter’s Anglican Church this year.\nAs follows – Monday Anglican\nTuesday United\nWednesday Church of the Nazarene\nThursday Catholic\nCome join your friends and neighbours in prayer and song as we move through the week toward the celebration of Christs’ resurrection.\nEveryone is welcome to attend any or all services.\nPlease Note: There will be NO LUNCH following the services this year.
URL:https://sacredheartalberton.ca/event/holy-week-noon-services/
END:VEVENT
END:VCALENDAR